BEGIN:VCALENDAR
VERSION:2.0
PRODID:-//Club de la Presse et de la Communication de Normandie - ECPv6.15.17//NONSGML v1.0//EN
CALSCALE:GREGORIAN
METHOD:PUBLISH
X-WR-CALNAME:Club de la Presse et de la Communication de Normandie
X-ORIGINAL-URL:https://www.pressecomnormandie.fr
X-WR-CALDESC:Évènements pour Club de la Presse et de la Communication de Normandie
REFRESH-INTERVAL;VALUE=DURATION:PT1H
X-Robots-Tag:noindex
X-PUBLISHED-TTL:PT1H
BEGIN:VTIMEZONE
TZID:Europe/Paris
BEGIN:DAYLIGHT
TZOFFSETFROM:+0100
TZOFFSETTO:+0200
TZNAME:CEST
DTSTART:20250330T010000
END:DAYLIGHT
BEGIN:STANDARD
TZOFFSETFROM:+0200
TZOFFSETTO:+0100
TZNAME:CET
DTSTART:20251026T010000
END:STANDARD
BEGIN:DAYLIGHT
TZOFFSETFROM:+0100
TZOFFSETTO:+0200
TZNAME:CEST
DTSTART:20260329T010000
END:DAYLIGHT
BEGIN:STANDARD
TZOFFSETFROM:+0200
TZOFFSETTO:+0100
TZNAME:CET
DTSTART:20261025T010000
END:STANDARD
BEGIN:DAYLIGHT
TZOFFSETFROM:+0100
TZOFFSETTO:+0200
TZNAME:CEST
DTSTART:20270328T010000
END:DAYLIGHT
BEGIN:STANDARD
TZOFFSETFROM:+0200
TZOFFSETTO:+0100
TZNAME:CET
DTSTART:20271031T010000
END:STANDARD
END:VTIMEZONE
BEGIN:VEVENT
DTSTART;TZID=Europe/Paris:20260310T180000
DTEND;TZID=Europe/Paris:20260310T190000
DTSTAMP:20260421T105743
CREATED:20260216T095633Z
LAST-MODIFIED:20260216T100842Z
UID:28077-1773165600-1773169200@www.pressecomnormandie.fr
SUMMARY:Présentation de Médias en Normandie par Jean-Marie Charon
DESCRIPTION:Le Club participe à la présentation de la revue Études Normandes “Médias en Normandie\, histoire et mutations” à la bibliothèque Oscar-Niemeyer\, le mardi 10 mars\, à 18h. \nJean-Marie Charon\, sociologue des médias renommé\, a coordonné ce numéro trimestriel\, pour mettre en lumière l’histoire des médias en Normandie\, ainsi que les défis actuels et à venir de la presse locale. \nJean-Marie Charon présentera la revue\, le dossier\, puis Capucine Revillon\, adjointe documentaire et co-autrice d’un article de la revue\, abordera l’Éducation aux médias et à l’information et notamment les actions EMI mises en place dans les bibliothèques. \nPlus d’infos sur le site du Réseau des bibliothèques de la Ville du Havre
URL:https://www.pressecomnormandie.fr/event/presentation-de-medias-en-normandie-par-jean-marie-charon/
LOCATION:bibliothèque osacar niemeyer\, Le Havre
ATTACH;FMTTYPE=image/jpeg:https://www.pressecomnormandie.fr/wp-content/uploads/2026/01/Etudes-Normandes-fev-26.jpg
ORGANIZER;CN="Club de la Presse et de la Communication de Normandie":MAILTO:contact@pressecomnormandie.fr
END:VEVENT
END:VCALENDAR