BEGIN:VCALENDAR
VERSION:2.0
PRODID:-//Club de la Presse et de la Communication de Normandie - ECPv6.15.17//NONSGML v1.0//EN
CALSCALE:GREGORIAN
METHOD:PUBLISH
X-WR-CALNAME:Club de la Presse et de la Communication de Normandie
X-ORIGINAL-URL:https://www.pressecomnormandie.fr
X-WR-CALDESC:Évènements pour Club de la Presse et de la Communication de Normandie
REFRESH-INTERVAL;VALUE=DURATION:PT1H
X-Robots-Tag:noindex
X-PUBLISHED-TTL:PT1H
BEGIN:VTIMEZONE
TZID:Europe/Paris
BEGIN:DAYLIGHT
TZOFFSETFROM:+0100
TZOFFSETTO:+0200
TZNAME:CEST
DTSTART:20250330T010000
END:DAYLIGHT
BEGIN:STANDARD
TZOFFSETFROM:+0200
TZOFFSETTO:+0100
TZNAME:CET
DTSTART:20251026T010000
END:STANDARD
BEGIN:DAYLIGHT
TZOFFSETFROM:+0100
TZOFFSETTO:+0200
TZNAME:CEST
DTSTART:20260329T010000
END:DAYLIGHT
BEGIN:STANDARD
TZOFFSETFROM:+0200
TZOFFSETTO:+0100
TZNAME:CET
DTSTART:20261025T010000
END:STANDARD
BEGIN:DAYLIGHT
TZOFFSETFROM:+0100
TZOFFSETTO:+0200
TZNAME:CEST
DTSTART:20270328T010000
END:DAYLIGHT
BEGIN:STANDARD
TZOFFSETFROM:+0200
TZOFFSETTO:+0100
TZNAME:CET
DTSTART:20271031T010000
END:STANDARD
END:VTIMEZONE
BEGIN:VEVENT
DTSTART;TZID=Europe/Paris:20260327T120000
DTEND;TZID=Europe/Paris:20260327T140000
DTSTAMP:20260420T025203
CREATED:20260302T075913Z
LAST-MODIFIED:20260302T075913Z
UID:28142-1774612800-1774620000@www.pressecomnormandie.fr
SUMMARY:Le 12-14 se met au printemps
DESCRIPTION:Le prochain déjeuner havrais “12-14” se met aux couleurs du printemps. \nLes adhérents se retrouveront le vendredi 27 mars pour profiter du bord de mer. Lieu en cours de calage. \nL’occasion de faire le point sur les événements qui se seront tenus en mars !
URL:https://www.pressecomnormandie.fr/event/le-12-14-se-met-au-printemps/
ATTACH;FMTTYPE=image/png:https://www.pressecomnormandie.fr/wp-content/uploads/2025/07/Illustration-of-the-monthly-lunch-gatherings-resuming-in-Le-Havre-for-the-Club-de-la-Presse-et-de-la.png
ORGANIZER;CN="Club de la Presse et de la Communication de Normandie":MAILTO:contact@pressecomnormandie.fr
END:VEVENT
END:VCALENDAR