BEGIN:VCALENDAR
VERSION:2.0
PRODID:-//Club de la Presse et de la Communication de Normandie - ECPv6.15.17//NONSGML v1.0//EN
CALSCALE:GREGORIAN
METHOD:PUBLISH
X-ORIGINAL-URL:https://www.pressecomnormandie.fr
X-WR-CALDESC:Évènements pour Club de la Presse et de la Communication de Normandie
REFRESH-INTERVAL;VALUE=DURATION:PT1H
X-Robots-Tag:noindex
X-PUBLISHED-TTL:PT1H
BEGIN:VTIMEZONE
TZID:Europe/Paris
BEGIN:DAYLIGHT
TZOFFSETFROM:+0100
TZOFFSETTO:+0200
TZNAME:CEST
DTSTART:20250330T010000
END:DAYLIGHT
BEGIN:STANDARD
TZOFFSETFROM:+0200
TZOFFSETTO:+0100
TZNAME:CET
DTSTART:20251026T010000
END:STANDARD
BEGIN:DAYLIGHT
TZOFFSETFROM:+0100
TZOFFSETTO:+0200
TZNAME:CEST
DTSTART:20260329T010000
END:DAYLIGHT
BEGIN:STANDARD
TZOFFSETFROM:+0200
TZOFFSETTO:+0100
TZNAME:CET
DTSTART:20261025T010000
END:STANDARD
BEGIN:DAYLIGHT
TZOFFSETFROM:+0100
TZOFFSETTO:+0200
TZNAME:CEST
DTSTART:20270328T010000
END:DAYLIGHT
BEGIN:STANDARD
TZOFFSETFROM:+0200
TZOFFSETTO:+0100
TZNAME:CET
DTSTART:20271031T010000
END:STANDARD
END:VTIMEZONE
BEGIN:VEVENT
DTSTART;TZID=Europe/Paris:20260402T084500
DTEND;TZID=Europe/Paris:20260402T100000
DTSTAMP:20260420T010018
CREATED:20260216T165056Z
LAST-MODIFIED:20260216T165056Z
UID:27968-1775119500-1775124000@www.pressecomnormandie.fr
SUMMARY:Visite de la nouvelle rédaction de Liberté / Actu.fr
DESCRIPTION:Le Club vous invite le 2 avril prochain pour découvrir les nouveaux locaux de la rédaction caennaise d’Actu.fr et Liberté. \nAprès 17 années passées face à la Colline aux Oiseaux à Caen\, la rédaction\, l’atelier et les services commerciaux calvadosiens du Groupe Actu ont changé d’air. \nC’est à ce groupe national qu’appartient le journal Liberté – Le Bonhomme libre\, le mensuel Côté Caen\, ainsi que le pure player Sport à Caen. Les équipes du Groupe Actu à Caen sont désormais regroupées dans un même bâtiment.\n\nElles sont installées\, depuis le 5 février\, dans de nouveaux locaux au 1280\, rue d’Épron à Hérouville-Saint-Clair\, dans le quartier Citis. \nLe Groupe Actu occupe aujourd’hui la place de 2e site d’informations régionales en France\, avec 120 millions de visiteurs chaque mois en moyenne. Les 95 titres de presse et la vingtaine de “verticales” (ActuToulouse\, ActuLyon\, ActuMarseille…) vivent grâce au travail fourni par ses 850 salariés\, dont 400 journalistes.\nRendez-vous le 2 avril dès 8h45 pour découvrir la nouvelle rédaction en compagnie des équipes.
URL:https://www.pressecomnormandie.fr/event/visite-de-la-nouvelle-redaction-de-liberte-actu-fr/
LOCATION:Citis\, 1280 rue d'Épron\, Hérouville-Saint-Clair\, 14200\, France
ATTACH;FMTTYPE=image/jpeg:https://www.pressecomnormandie.fr/wp-content/uploads/2026/02/redac-actu.jpeg
END:VEVENT
END:VCALENDAR