BEGIN:VCALENDAR
VERSION:2.0
PRODID:-//Club de la Presse et de la Communication de Normandie - ECPv6.15.17//NONSGML v1.0//EN
CALSCALE:GREGORIAN
METHOD:PUBLISH
X-ORIGINAL-URL:https://www.pressecomnormandie.fr
X-WR-CALDESC:Évènements pour Club de la Presse et de la Communication de Normandie
REFRESH-INTERVAL;VALUE=DURATION:PT1H
X-Robots-Tag:noindex
X-PUBLISHED-TTL:PT1H
BEGIN:VTIMEZONE
TZID:Europe/Paris
BEGIN:DAYLIGHT
TZOFFSETFROM:+0100
TZOFFSETTO:+0200
TZNAME:CEST
DTSTART:20250330T010000
END:DAYLIGHT
BEGIN:STANDARD
TZOFFSETFROM:+0200
TZOFFSETTO:+0100
TZNAME:CET
DTSTART:20251026T010000
END:STANDARD
BEGIN:DAYLIGHT
TZOFFSETFROM:+0100
TZOFFSETTO:+0200
TZNAME:CEST
DTSTART:20260329T010000
END:DAYLIGHT
BEGIN:STANDARD
TZOFFSETFROM:+0200
TZOFFSETTO:+0100
TZNAME:CET
DTSTART:20261025T010000
END:STANDARD
BEGIN:DAYLIGHT
TZOFFSETFROM:+0100
TZOFFSETTO:+0200
TZNAME:CEST
DTSTART:20270328T010000
END:DAYLIGHT
BEGIN:STANDARD
TZOFFSETFROM:+0200
TZOFFSETTO:+0100
TZNAME:CET
DTSTART:20271031T010000
END:STANDARD
END:VTIMEZONE
BEGIN:VEVENT
DTSTART;TZID=Europe/Paris:20260701T170000
DTEND;TZID=Europe/Paris:20260701T180000
DTSTAMP:20260420T042347
CREATED:20260408T094525Z
LAST-MODIFIED:20260408T094525Z
UID:28307-1782925200-1782928800@www.pressecomnormandie.fr
SUMMARY:Visite de l'exposition ''Monet au Havre''
DESCRIPTION:Le Club invite les adhérents à plonger dans la jeunesse du peintre avec une visite de l’exposition Monet au Havre au MuMa. \nCe rendez-vous est proposé à l’occasion du centenaire de la disparition de Claude Monet (Paris\, 1840 – Giverny\, 1926) et à l’initiative de Catherine Bertrand\, attachée de presse du musée et adhérente du Club. \nEn neuf sections mêlant approche thématique et fil chronologique\, l’exposition donne à voir une centaine d’œuvres – dont des peintures\, des archives et des photographies de famille – pour éclairer d’un regard neuf la jeunesse de Monet\, son milieu havrais et les influences qui ont façonné son œuvre. Fait rare : les descendants de l’artiste ont accepté pour la première fois de prêter des pièces inédites\, dont le portrait du père de l’artiste et l’un de ses premiers carnets de croquis. \nUn rendez-vous culturel à ne pas manquer pour bien démarrer l’été.
URL:https://www.pressecomnormandie.fr/event/visite-de-lexposition-monet-au-havre/
LOCATION:MuMa Le Havre\, 2 Boulevard Clemenceau\, Le Havre\, 76600
ATTACH;FMTTYPE=application/pdf:https://www.pressecomnormandie.fr/wp-content/uploads/2026/04/40x60-MuMa-MONET-au-HAvre-2026.pdf
ORGANIZER;CN="Club de la Presse et de la Communication de Normandie":MAILTO:contact@pressecomnormandie.fr
END:VEVENT
END:VCALENDAR