BEGIN:VCALENDAR
VERSION:2.0
PRODID:-//Club de la Presse et de la Communication de Normandie - ECPv6.15.17//NONSGML v1.0//EN
CALSCALE:GREGORIAN
METHOD:PUBLISH
X-ORIGINAL-URL:https://www.pressecomnormandie.fr
X-WR-CALDESC:Évènements pour Club de la Presse et de la Communication de Normandie
REFRESH-INTERVAL;VALUE=DURATION:PT1H
X-Robots-Tag:noindex
X-PUBLISHED-TTL:PT1H
BEGIN:VTIMEZONE
TZID:Europe/Paris
BEGIN:DAYLIGHT
TZOFFSETFROM:+0100
TZOFFSETTO:+0200
TZNAME:CEST
DTSTART:20250330T010000
END:DAYLIGHT
BEGIN:STANDARD
TZOFFSETFROM:+0200
TZOFFSETTO:+0100
TZNAME:CET
DTSTART:20251026T010000
END:STANDARD
BEGIN:DAYLIGHT
TZOFFSETFROM:+0100
TZOFFSETTO:+0200
TZNAME:CEST
DTSTART:20260329T010000
END:DAYLIGHT
BEGIN:STANDARD
TZOFFSETFROM:+0200
TZOFFSETTO:+0100
TZNAME:CET
DTSTART:20261025T010000
END:STANDARD
BEGIN:DAYLIGHT
TZOFFSETFROM:+0100
TZOFFSETTO:+0200
TZNAME:CEST
DTSTART:20270328T010000
END:DAYLIGHT
BEGIN:STANDARD
TZOFFSETFROM:+0200
TZOFFSETTO:+0100
TZNAME:CET
DTSTART:20271031T010000
END:STANDARD
END:VTIMEZONE
BEGIN:VEVENT
DTSTART;TZID=Europe/Paris:20260424T123000
DTEND;TZID=Europe/Paris:20260424T140000
DTSTAMP:20260420T040848
CREATED:20260330T101650Z
LAST-MODIFIED:20260330T102010Z
UID:28264-1777033800-1777039200@www.pressecomnormandie.fr
SUMMARY:Un 12-14 vue sur la mer
DESCRIPTION:Le 12-14 du vendredi 24 avril se tiendra au restaurant La Bise (1 rue Maurice-Taconet à Sainte-Adresse) à Sainte-Adresse. \nUne fois de plus\, les adhérents pourront échanger autour de leurs actualités et se projeter sur les rendez-vous de cette seconde partie de semestre.
URL:https://www.pressecomnormandie.fr/event/un-12-14-vue-sur-la-mer/
ATTACH;FMTTYPE=image/png:https://www.pressecomnormandie.fr/wp-content/uploads/2025/07/Illustration-of-the-monthly-lunch-gatherings-resuming-in-Le-Havre-for-the-Club-de-la-Presse-et-de-la.png
END:VEVENT
BEGIN:VEVENT
DTSTART;TZID=Europe/Paris:20260428T123000
DTEND;TZID=Europe/Paris:20260428T140000
DTSTAMP:20260420T040848
CREATED:20260402T132913Z
LAST-MODIFIED:20260402T132913Z
UID:28295-1777379400-1777384800@www.pressecomnormandie.fr
SUMMARY:Visite du Carillon de Rouen
DESCRIPTION:10 ans de restauration ça se fête ! \nC’est à cette occasion que le Club propose une visite guidée à ses adhérents du Carillon de Rouen\, menée par l’Association du Carillon de la Cathédrale de Rouen (ACCR).\nDécouvrir un lieu unique du patrimoine rouennais\, 64 cloches en haut de 129 marches\, est une occasion exceptionnelle offerte par l’ACCR. Cette opportunité est possible dans le cadre des 10 ans de restauration du Carillon\, célébrées les 2 et 3 mai avec des concerts exceptionnels au programme. \nAprès cette visite\, vous aurez peut-être envie de chanter tous les mois dans le jardin d’Albane\, accompagné par le carillon. L’association organise des rencontres ouvertes\, Chantons sous les cloches\,  au public tous les mois autour d’un répertoire populaire. \nNombre de places limitées. Inscription obligatoire. \nIl est conseillé aux participants de venir avec des protections auditives le jour de la visite.
URL:https://www.pressecomnormandie.fr/event/visite-du-carillon-de-rouen/
LOCATION:Cathédrale de Rouen
ATTACH;FMTTYPE=image/jpeg:https://www.pressecomnormandie.fr/wp-content/uploads/2026/04/01-carillon.jpg
ORGANIZER;CN="Le Club":MAILTO:contact@pressecomnormandie.fr
END:VEVENT
BEGIN:VEVENT
DTSTART;TZID=Europe/Paris:20260430T123000
DTEND;TZID=Europe/Paris:20260430T140000
DTSTAMP:20260420T040848
CREATED:20260414T081754Z
LAST-MODIFIED:20260414T081754Z
UID:28410-1777552200-1777557600@www.pressecomnormandie.fr
SUMMARY:L'interview au-delà des mots : lire les gestes\, poser les bonnes questions
DESCRIPTION:Vous interviewez des élus\, des experts\, des témoins. Vous observez\, vous écoutez\, vous questionnez. Vous obtenez des réponses ?\nMais savez-vous lire les non-dits ? Pascale Abekhzer\, oui ! \nLe 30 avril à 12h30\, le Club vous invite à un atelier inédit avec Pascale Abekhzer\, comportementaliste et synergologue. \nSur la base d’extraits vidéo issus de plateaux télé\, d’interviews et de débats politiques\, Pascale décryptera ce que le langage corporel révèle — et ce que les mots taisent. Des méthodes qu’elle a déjà transmises dans des contextes à forts enjeux (armées\, hôpitaux\, grandes entreprises)\, qu’elle rend aujourd’hui accessibles à vos pratiques professionnelles. \nJournalistes\, communicants\, à l’issue de cette expérience\, repartez avec des outils immédiatement applicables pour : \n\nDétecter ce qui se joue avant les mots\nIdentifier le moment clé d’un échange\nPoser la question décisive\n\nAu programme : décryptage des gestes et émotions et mise en pratique des outils de la synergologie et de la questiologie\, deux disciplines directement utiles sur le terrain\, que vous soyez journaliste ou communicant.
URL:https://www.pressecomnormandie.fr/event/linterview-au-dela-des-mots-lire-les-gestes-poser-les-bonnes-questions/
LOCATION:Club de la Presse et de la Communication de Normandie\, 49 rue Saint Eloi\, Rouen\, 76000
ATTACH;FMTTYPE=image/jpeg:https://www.pressecomnormandie.fr/wp-content/uploads/2026/04/Itw-synergologie.jpg
END:VEVENT
END:VCALENDAR